BEGIN:VCALENDAR
VERSION:2.0
PRODID:spatie/icalendar-generator
DESCRIPTION:Events from Northern Virginia Chapter\, ASA
X-WR-CALDESC:Events from Northern Virginia Chapter\, ASA
REFRESH-INTERVAL;VALUE=DURATION:PT1440M
X-PUBLISHED-TTL:PT1440M
BEGIN:VTIMEZONE
TZID:America/New_York
BEGIN:STANDARD
DTSTART:20251102T020000Z
TZOFFSETFROM:-0400
TZOFFSETTO:-0500
END:STANDARD
BEGIN:DAYLIGHT
DTSTART:20260308T020000Z
TZOFFSETFROM:-0500
TZOFFSETTO:-0400
END:DAYLIGHT
END:VTIMEZONE
BEGIN:VTIMEZONE
TZID:UTC
BEGIN:STANDARD
DTSTART:20250728T143559Z
TZOFFSETFROM:+0000
TZOFFSETTO:+0000
END:STANDARD
END:VTIMEZONE
BEGIN:VEVENT
UID:2-2
DTSTAMP:20260424T143559Z
SUMMARY:Holiday Social and Annual Meeting
LOCATION:Kirkwood Presbyterian 8336 Carrleigh Pkwy  West Springfield VA 221
 52
ORGANIZER;CN=Paul Beck:MAILTO:pabeck@gmail.com
DTSTART;TZID=America/New_York:20251207T133000
DTEND;TZID=America/New_York:20251207T170000
X-ALT-DESC;FMTTYPE=TEXT/HTML:The chapter will be holding our annual Holiday
  Social and Annual Meeting on 7 December at Kirkwood Presbyterian Church. 
 This is always an enjoyable event where we can socialize with our fellow m
 embers and enjoy tasty dishes\, many of which are member favorites and eag
 erly awaited.
CATEGORIES:General
URL;VALUE=URI:https://nv-asa.org/mc-events/holiday-social-and-annual-meetin
 g/
METHOD:PUBLISH
END:VEVENT
END:VCALENDAR