BEGIN:VCALENDAR
VERSION:2.0
PRODID:spatie/icalendar-generator
DESCRIPTION:Events from Northern Virginia Chapter\, ASA
X-WR-CALDESC:Events from Northern Virginia Chapter\, ASA
REFRESH-INTERVAL;VALUE=DURATION:PT1440M
X-PUBLISHED-TTL:PT1440M
BEGIN:VTIMEZONE
TZID:America/New_York
BEGIN:STANDARD
DTSTART:20251102T020000Z
TZOFFSETFROM:-0400
TZOFFSETTO:-0500
END:STANDARD
BEGIN:DAYLIGHT
DTSTART:20260308T020000Z
TZOFFSETFROM:-0500
TZOFFSETTO:-0400
END:DAYLIGHT
END:VTIMEZONE
BEGIN:VTIMEZONE
TZID:UTC
BEGIN:STANDARD
DTSTART:20250728T112929Z
TZOFFSETFROM:+0000
TZOFFSETTO:+0000
END:STANDARD
END:VTIMEZONE
BEGIN:VEVENT
UID:9-6
DTSTAMP:20260424T112929Z
SUMMARY:American Rhododendron Society (ARS) Convention
LOCATION:Qualicum Beach Civic Centre #201 – 660 Primrose Street  Qualicum
  Beach BC V9K 1S7
ORGANIZER;CN=Paul Beck:MAILTO:pabeck@gmail.com
DTSTART;TZID=America/New_York;VALUE=DATE:20260421
DTEND;TZID=America/New_York;VALUE=DATE:20260426
X-ALT-DESC;FMTTYPE=TEXT/HTML:MARS and the other four ARS chapters of Vancou
 ver Island will be hosting the international ARS Spring Conference in 202
 6! Join us for tours of amazing private and public gardens\, speakers\, p
 lant sale\, and much more.  Registration begins January 2026 – click h
 ere for more information.
CATEGORIES:Convention
URL;VALUE=URI:https://nv-asa.org/mc-events/american-rhododendron-society-ar
 s-convention/
METHOD:PUBLISH
END:VEVENT
END:VCALENDAR