BEGIN:VCALENDAR
VERSION:2.0
PRODID:spatie/icalendar-generator
DESCRIPTION:Events from Northern Virginia Chapter\, ASA
X-WR-CALDESC:Events from Northern Virginia Chapter\, ASA
REFRESH-INTERVAL;VALUE=DURATION:PT1440M
X-PUBLISHED-TTL:PT1440M
BEGIN:VTIMEZONE
TZID:America/New_York
BEGIN:STANDARD
DTSTART:20251102T020000Z
TZOFFSETFROM:-0400
TZOFFSETTO:-0500
END:STANDARD
BEGIN:DAYLIGHT
DTSTART:20260308T020000Z
TZOFFSETFROM:-0500
TZOFFSETTO:-0400
END:DAYLIGHT
END:VTIMEZONE
BEGIN:VTIMEZONE
TZID:UTC
BEGIN:STANDARD
DTSTART:20250728T112535Z
TZOFFSETFROM:+0000
TZOFFSETTO:+0000
END:STANDARD
END:VTIMEZONE
BEGIN:VEVENT
UID:7-5
DTSTAMP:20260424T112535Z
SUMMARY:Meadowlark Sale
LOCATION:Meadowlark Botanical Gardens 9750 Meadowlark Gardens Ct  Vienna VA
  22182
ORGANIZER;CN=Paul Beck:MAILTO:pabeck@gmail.com
DTSTART;TZID=America/New_York:20260425T090000
DTEND;TZID=America/New_York:20260425T150000
X-ALT-DESC;FMTTYPE=TEXT/HTML:This event is our annual spring plant sale at 
 Meadowlark Botanical Gardens in Vienna\, VA. The plant sale is open to the
  public and we donate 10% of the proceeds to the NoVA Parks\, parent organ
 ization of Meadowlark.
CATEGORIES:Plant Sale
URL;VALUE=URI:https://nv-asa.org/mc-events/meadowlark-sale/
METHOD:PUBLISH
END:VEVENT
END:VCALENDAR