BEGIN:VCALENDAR
VERSION:2.0
PRODID:spatie/icalendar-generator
DESCRIPTION:Events from Northern Virginia Chapter\, ASA
X-WR-CALDESC:Events from Northern Virginia Chapter\, ASA
REFRESH-INTERVAL;VALUE=DURATION:PT1440M
X-PUBLISHED-TTL:PT1440M
BEGIN:VTIMEZONE
TZID:America/New_York
BEGIN:STANDARD
DTSTART:20251102T020000Z
TZOFFSETFROM:-0400
TZOFFSETTO:-0500
END:STANDARD
BEGIN:DAYLIGHT
DTSTART:20260308T020000Z
TZOFFSETFROM:-0500
TZOFFSETTO:-0400
END:DAYLIGHT
END:VTIMEZONE
BEGIN:VTIMEZONE
TZID:UTC
BEGIN:STANDARD
DTSTART:20250728T113246Z
TZOFFSETFROM:+0000
TZOFFSETTO:+0000
END:STANDARD
END:VTIMEZONE
BEGIN:VEVENT
UID:6-4
DTSTAMP:20260424T113246Z
SUMMARY:ASA Convention - Athens Azaleas: A Classic Tradition
LOCATION:Springhill Suites Athens West 3500 Daniells Bridge Road  Athens GA
  30606
ORGANIZER;CN=Paul Beck:MAILTO:pabeck@gmail.com
DTSTART;TZID=America/New_York;VALUE=DATE:20260412
DTEND;TZID=America/New_York;VALUE=DATE:20260416
X-ALT-DESC;FMTTYPE=TEXT/HTML:ASA Convention - Athens Azaleas: A Classic Tra
 dition The 2026 ASA National Convention will be held in Athens\, Georgia\,
  on the banks of the Oconee River\, from Sunday\, April 12 to Wednesday\, 
 April 15\, 2026. Athens is the home of the University of Georgia\, charter
 ed in 1785\, the oldest state-chartered public university in the United&amp;he
 llip\;
CATEGORIES:Convention
URL;VALUE=URI:https://nv-asa.org/mc-events/asa-convention-athens-azaleas-a-
 classic-tradition/
METHOD:PUBLISH
END:VEVENT
END:VCALENDAR